BEGIN:VCALENDAR
VERSION:2.0
PRODID:-//Holcombe Parish Council//Meeting Calendar//EN
CALSCALE:GREGORIAN
METHOD:PUBLISH
BEGIN:VEVENT
UID:70473-20250902@holcombesomerset-pc.gov.uk
DTSTAMP:20260419T132425Z
DTSTART;VALUE=DATE:20250902
DTEND;VALUE=DATE:20250903
SUMMARY:Council Meeting – 2 September 2025
DESCRIPTION:Full Council Meeting\nView details: https://holcombesomerset-pc.gov.uk/meetings/council-meeting-2-september-2025/
URL:https://holcombesomerset-pc.gov.uk/meetings/council-meeting-2-september-2025/
END:VEVENT
END:VCALENDAR
