BEGIN:VCALENDAR
VERSION:2.0
PRODID:-//Holcombe Parish Council//Meeting Calendar//EN
CALSCALE:GREGORIAN
METHOD:PUBLISH
BEGIN:VEVENT
UID:70476-20251007@holcombesomerset-pc.gov.uk
DTSTAMP:20260419T132444Z
DTSTART;VALUE=DATE:20251007
DTEND;VALUE=DATE:20251008
SUMMARY:Council Meeting – 7 October 2025
DESCRIPTION:Full Council Meeting\nView details: https://holcombesomerset-pc.gov.uk/meetings/council-meeting-7-october-2025/
URL:https://holcombesomerset-pc.gov.uk/meetings/council-meeting-7-october-2025/
END:VEVENT
END:VCALENDAR
