BEGIN:VCALENDAR
VERSION:2.0
PRODID:-//Holcombe Parish Council//Meeting Calendar//EN
CALSCALE:GREGORIAN
METHOD:PUBLISH
BEGIN:VEVENT
UID:70480-20250603@holcombesomerset-pc.gov.uk
DTSTAMP:20260419T144635Z
DTSTART;VALUE=DATE:20250603
DTEND;VALUE=DATE:20250604
SUMMARY:Council Meeting – 3 June 2025
DESCRIPTION:Full Council Meeting\nView details: https://holcombesomerset-pc.gov.uk/meetings/council-meeting-3-june-2025/
URL:https://holcombesomerset-pc.gov.uk/meetings/council-meeting-3-june-2025/
END:VEVENT
END:VCALENDAR
