BEGIN:VCALENDAR
VERSION:2.0
PRODID:-//Holcombe Parish Council//Meeting Calendar//EN
CALSCALE:GREGORIAN
METHOD:PUBLISH
BEGIN:VEVENT
UID:70486-20250506@holcombesomerset-pc.gov.uk
DTSTAMP:20260419T145451Z
DTSTART;VALUE=DATE:20250506
DTEND;VALUE=DATE:20250507
SUMMARY:Council Meeting – 6 May 2025
DESCRIPTION:Full Council Meeting\nView details: https://holcombesomerset-pc.gov.uk/meetings/council-meeting-6-may-2025/
URL:https://holcombesomerset-pc.gov.uk/meetings/council-meeting-6-may-2025/
END:VEVENT
END:VCALENDAR
