BEGIN:VCALENDAR
VERSION:2.0
PRODID:-//Holcombe Parish Council//Meeting Calendar//EN
CALSCALE:GREGORIAN
METHOD:PUBLISH
BEGIN:VEVENT
UID:70489-20250401@holcombesomerset-pc.gov.uk
DTSTAMP:20260419T143129Z
DTSTART;VALUE=DATE:20250401
DTEND;VALUE=DATE:20250402
SUMMARY:Council Meeting – 1 April 2025
DESCRIPTION:Full Council Meeting\nView details: https://holcombesomerset-pc.gov.uk/meetings/council-meeting-1-april-2025/
URL:https://holcombesomerset-pc.gov.uk/meetings/council-meeting-1-april-2025/
END:VEVENT
END:VCALENDAR
