BEGIN:VCALENDAR
VERSION:2.0
PRODID:-//Holcombe Parish Council//Meeting Calendar//EN
CALSCALE:GREGORIAN
METHOD:PUBLISH
BEGIN:VEVENT
UID:70492-20250318@holcombesomerset-pc.gov.uk
DTSTAMP:20260419T142941Z
DTSTART;VALUE=DATE:20250318
DTEND;VALUE=DATE:20250319
SUMMARY:Annual Council Meeting – 18 March 2025
DESCRIPTION:Full Council Meeting\nView details: https://holcombesomerset-pc.gov.uk/meetings/council-meeting-18-march-2025/
URL:https://holcombesomerset-pc.gov.uk/meetings/council-meeting-18-march-2025/
END:VEVENT
END:VCALENDAR
