BEGIN:VCALENDAR
VERSION:2.0
PRODID:-//Holcombe Parish Council//Meeting Calendar//EN
CALSCALE:GREGORIAN
METHOD:PUBLISH
BEGIN:VEVENT
UID:70495-20250204@holcombesomerset-pc.gov.uk
DTSTAMP:20260419T131653Z
DTSTART;VALUE=DATE:20250204
DTEND;VALUE=DATE:20250205
SUMMARY:Council Meeting – 4 February 2025
DESCRIPTION:Full Council Meeting\nView details: https://holcombesomerset-pc.gov.uk/meetings/council-meeting-4-february-2025/
URL:https://holcombesomerset-pc.gov.uk/meetings/council-meeting-4-february-2025/
END:VEVENT
END:VCALENDAR
