BEGIN:VCALENDAR
VERSION:2.0
PRODID:-//Holcombe Parish Council//Meeting Calendar//EN
CALSCALE:GREGORIAN
METHOD:PUBLISH
BEGIN:VEVENT
UID:70498-20250107@holcombesomerset-pc.gov.uk
DTSTAMP:20260419T131348Z
DTSTART;VALUE=DATE:20250107
DTEND;VALUE=DATE:20250108
SUMMARY:Council Meeting – 7 January 2025
DESCRIPTION:Full Council Meeting\nView details: https://holcombesomerset-pc.gov.uk/meetings/council-meeting-7-january-2025/
URL:https://holcombesomerset-pc.gov.uk/meetings/council-meeting-7-january-2025/
END:VEVENT
END:VCALENDAR
