BEGIN:VCALENDAR
VERSION:2.0
PRODID:-//Holcombe Parish Council//Meeting Calendar//EN
CALSCALE:GREGORIAN
METHOD:PUBLISH
BEGIN:VEVENT
UID:70508-20250201@holcombesomerset-pc.gov.uk
DTSTAMP:20260419T131822Z
DTSTART;VALUE=DATE:20250201
DTEND;VALUE=DATE:20250202
SUMMARY:Council Meetings &#8211\\; 2024
DESCRIPTION:Full Council Meeting\nView details: https://holcombesomerset-pc.gov.uk/meetings/council-meetings-2024/
URL:https://holcombesomerset-pc.gov.uk/meetings/council-meetings-2024/
END:VEVENT
END:VCALENDAR
