BEGIN:VCALENDAR
VERSION:2.0
PRODID:-//Holcombe Parish Council//Meeting Calendar//EN
CALSCALE:GREGORIAN
METHOD:PUBLISH
BEGIN:VEVENT
UID:70556-20251104@holcombesomerset-pc.gov.uk
DTSTAMP:20260419T133248Z
DTSTART;VALUE=DATE:20251104
DTEND;VALUE=DATE:20251105
SUMMARY:Council Meeting – 4 November 2025
DESCRIPTION:Full Council Meeting\nView details: https://holcombesomerset-pc.gov.uk/meetings/council-meeting-4-november-2025/
URL:https://holcombesomerset-pc.gov.uk/meetings/council-meeting-4-november-2025/
END:VEVENT
END:VCALENDAR
