BEGIN:VCALENDAR
VERSION:2.0
PRODID:-//Holcombe Parish Council//Meeting Calendar//EN
CALSCALE:GREGORIAN
METHOD:PUBLISH
BEGIN:VEVENT
UID:70734-20250304@holcombesomerset-pc.gov.uk
DTSTAMP:20260419T143715Z
DTSTART;VALUE=DATE:20250304
DTEND;VALUE=DATE:20250305
SUMMARY:Council Meeting &#8211\\; 4 March 2025
DESCRIPTION:Full Council Meeting\nView details: https://holcombesomerset-pc.gov.uk/meetings/minutes-4-march-25/
URL:https://holcombesomerset-pc.gov.uk/meetings/minutes-4-march-25/
END:VEVENT
END:VCALENDAR
