BEGIN:VCALENDAR
VERSION:2.0
PRODID:-//Holcombe Parish Council//Meeting Calendar//EN
CALSCALE:GREGORIAN
METHOD:PUBLISH
BEGIN:VEVENT
UID:70736-20251202@holcombesomerset-pc.gov.uk
DTSTAMP:20260419T132047Z
DTSTART;VALUE=DATE:20251202
DTEND;VALUE=DATE:20251203
SUMMARY:Council Meeting 2 Dec 2025
DESCRIPTION:Full Council Meeting\nView details: https://holcombesomerset-pc.gov.uk/meetings/council-meeting-2-dec-2025/
URL:https://holcombesomerset-pc.gov.uk/meetings/council-meeting-2-dec-2025/
END:VEVENT
END:VCALENDAR
